BEGIN:VCALENDAR
VERSION:2.0
PRODID:-//wp-events-plugin.com//6.4.9//EN
TZID:America/Denver
X-WR-TIMEZONE:America/Denver
BEGIN:VEVENT
UID:200@our-heavenly-father.com
DTSTART;TZID=America/North_Dakota/Beulah:20231208T213000
DTEND;TZID=America/North_Dakota/Beulah:20231208T223000
DTSTAMP:20230706T214457Z
URL:https://our-heavenly-father.com/events/bible-stories-2023-12-08/
SUMMARY:Bible Stories
DESCRIPTION:We are hosting our Online Bible Study on Friday\, at 9:30 PM\, 
 Central Time. It will be approximately 1 hour long. Make sure to check it 
 out!
ATTACH;FMTTYPE=image/jpeg:https://our-heavenly-father.com/wp-content/uploa
 ds/2023/06/Bible-Stories-Event.jpg
LOCATION:https://discord.gg/CJpNn2vB63
END:VEVENT
BEGIN:VTIMEZONE
TZID:America/North_Dakota/Beulah
X-LIC-LOCATION:America/North_Dakota/Beulah
BEGIN:STANDARD
DTSTART:20231105T010000
TZOFFSETFROM:-0500
TZOFFSETTO:-0600
TZNAME:CST
END:STANDARD
END:VTIMEZONE
END:VCALENDAR